BEGIN:VCALENDAR
VERSION:2.0
PRODID:-//AI Experience Centre - ECPv6.15.20//NONSGML v1.0//EN
CALSCALE:GREGORIAN
METHOD:PUBLISH
X-WR-CALNAME:AI Experience Centre
X-ORIGINAL-URL:https://experience-centre.ai
X-WR-CALDESC:Events for AI Experience Centre
REFRESH-INTERVAL;VALUE=DURATION:PT1H
X-Robots-Tag:noindex
X-PUBLISHED-TTL:PT1H
BEGIN:VTIMEZONE
TZID:Europe/Brussels
BEGIN:DAYLIGHT
TZOFFSETFROM:+0100
TZOFFSETTO:+0200
TZNAME:CEST
DTSTART:20190331T010000
END:DAYLIGHT
BEGIN:STANDARD
TZOFFSETFROM:+0200
TZOFFSETTO:+0100
TZNAME:CET
DTSTART:20191027T010000
END:STANDARD
BEGIN:DAYLIGHT
TZOFFSETFROM:+0100
TZOFFSETTO:+0200
TZNAME:CEST
DTSTART:20200329T010000
END:DAYLIGHT
BEGIN:STANDARD
TZOFFSETFROM:+0200
TZOFFSETTO:+0100
TZNAME:CET
DTSTART:20201025T010000
END:STANDARD
BEGIN:DAYLIGHT
TZOFFSETFROM:+0100
TZOFFSETTO:+0200
TZNAME:CEST
DTSTART:20210328T010000
END:DAYLIGHT
BEGIN:STANDARD
TZOFFSETFROM:+0200
TZOFFSETTO:+0100
TZNAME:CET
DTSTART:20211031T010000
END:STANDARD
END:VTIMEZONE
BEGIN:VEVENT
DTSTART;TZID=Europe/Brussels:20200603T110000
DTEND;TZID=Europe/Brussels:20200603T120000
DTSTAMP:20260422T135115
CREATED:20200515T172056Z
LAST-MODIFIED:20200528T170854Z
UID:10877-1591182000-1591185600@experience-centre.ai
SUMMARY:AI for Defining Prevention & Exit Strategies for the COVID-19 Crisis
DESCRIPTION:Learn about the technological challenges & the lessons for Technology Experts\, Academics & Policy Makers presented in the crisis of COVID-19. \nThe AI Experience Centre invites you to participate in the fourth session of its webinar series all of which focuses on the key takeaways of the recent COVID-19 outbreak across a variety of sectors.  \nSign up HERE to secure your spot!\nWhen?  \n Wednesday\, June 3\, 2020\, 11:00 – 12:00 \nWhere?  \n Prior to the event you will be provided with an URL address of the webinar. \nAgenda: \n11:00 – 11:05: Introduction by Hans De Canck\, Manager of the AI Experience Centre \n11:05 – 11:35: Presentation by VUB Experts \n11:35 – 11:45: Expert colleague reaction (CLAIRE)  \n11:45 – 12:00: Q&A online attendants \nAbout the Session:  \nThis webinar focuses on AI Reinforcement Learning techniques and predictive modelling & decision making in defining prevention & exit strategies\, led by Prof. dr. Ann Nowé from the Artificial Intelligence Lab research group together with Prof. dr. Kurt Barbé \, member of the Artificial Intelligence Lab\, and Prof. dr. Tom Lenaerts who is a member of the VUB Artificial Intelligence Lab and the ULB Machine Learning Group. The date is soon to be announced. To not miss any of our news visit our website. \nAbout the Webinar Series: \nThe AI Experience Centre of the VUB is dedicated to emerging as an enabler by connecting academic expertise of the EU AI Framework with relevant stakeholders. The Centre is comprised of leading research groups (Artificial Intelligence Lab\, BruBotics\, ETRO\, and SMIT) in the field of Artificial Intelligence and Robotics. In the wake of the outbreak of COVID-19 the research groups and the Centre have dedicated their expertise to help health\, policy\, and economic decision making. We would like to invite you to learn from this experience together. from experts to improve ongoing and new projects that involve AI & Data innovation and to enhance the role of academics & scientists to create a human-centric post-corona society. A society where AI & Data technology contributes to the Common Good. \nStay tuned for more activities organised by the VUB AI Experience Centre. \nAny Questions? Email us at hans.de.canck@vub.be
URL:https://experience-centre.ai/event/ai-for-defining-prevention-exit-strategies/
LOCATION:Online Webinar
CATEGORIES:Online
ATTACH;FMTTYPE=image/jpeg:https://experience-centre.ai/wp-content/uploads/2020/05/webinar-1.6.jpg
END:VEVENT
BEGIN:VEVENT
DTSTART;TZID=Europe/Brussels:20200520T140000
DTEND;TZID=Europe/Brussels:20200520T150000
DTSTAMP:20260422T135115
CREATED:20200507T122334Z
LAST-MODIFIED:20200513T121557Z
UID:10745-1589983200-1589986800@experience-centre.ai
SUMMARY:The Challenge of AI & Data Protection Law amid the COVID-19 Crisis
DESCRIPTION:Learn about the technological challenges & the lessons for Technology Experts\, Academics & Policy Makers presented in the crisis of COVID-19. \nThe AI Experience Centre invites you to participate in the fifth session of its webinar series all of which focuses on the key takeaways of the recent COVID-19 outbreak across a variety of sectors.  \nSign up HERE to secure your spot!\nWhen?  \n Wednesday\, May 20\, 2020\, 14:00 – 15:00 \nWhere?  \n Prior to the event you will be provided with an URL address of the webinar. \nAgenda: \n14:00 – 14:05: Introduction by Hans De Canck\, Manager of the AI Experience Centre \n14:05 – 14:35: Presentation by VUB Experts \n14:35 – 14:45: Expert colleague reaction (CLAIRE)  \n14:45 – 14:00: Q&A online attendants \nAbout the Session:  \nProf. dr. Mireille Hildebrandt & Prof. dr. Gloria González Fuster  (LSTS) will discuss the continuing challenge of AI & Data Protection Law in the context of the current COVID-19 crisis. EU data protection law targets the protection of all fundamental rights and freedoms that are at stake when personal data is processed. This is even more pivotal during emergencies such as the corona crisis\, noting that emergency measures may be hardwired in ICT infrastructures and repurposed long after the virus has subsided. \nAbout the Webinar Series: \nThe AI Experience Centre of the VUB is dedicated to emerging as an enabler by connecting academic expertise of the EU AI Framework with relevant stakeholders. The Centre is comprised of leading research groups (Artificial Intelligence Lab\, BruBotics\, ETRO\, and SMIT) in the field of Artificial Intelligence and Robotics. In the wake of the outbreak of COVID-19 the research groups and the Centre have dedicated their expertise to help health\, policy\, and economic decision making. We would like to invite you to learn from this experience together. from experts to improve ongoing and new projects that involve AI & Data innovation and to enhance the role of academics & scientists to create a human-centric post-corona society. A society where AI & Data technology contributes to the Common Good. \nStay tuned for our next webinar on AI Reinforcement Learning techniques and predictive modelling & decision making in defining prevention & exit strategies\, led by Prof. dr. Ann Nowé from the Artificial Intelligence Lab research group together with Prof. dr. Kurt Barbé \, member of the Artificial Intelligence Lab\, and Prof. dr. Tom Lenaerts who is a member of the VUB Artificial Intelligence Lab and the ULB Machine Learning Group. The date is soon to be announced. To not miss any of our news visit our website. \nAny Questions? Email us at hans.de.canck@vub.be
URL:https://experience-centre.ai/event/the-callenge-of-ai-data-protection-law-amid-the-covid-19-crisis/
LOCATION:Online Webinar
CATEGORIES:Online
ATTACH;FMTTYPE=image/jpeg:https://experience-centre.ai/wp-content/uploads/2020/05/Webinar-5.2.jpg
END:VEVENT
BEGIN:VEVENT
DTSTART;TZID=Europe/Brussels:20200515T110000
DTEND;TZID=Europe/Brussels:20200515T120000
DTSTAMP:20260422T135115
CREATED:20200506T080149Z
LAST-MODIFIED:20200508T123038Z
UID:10666-1589540400-1589544000@experience-centre.ai
SUMMARY:CT Lung Image Analysis and Artificial Intelligence
DESCRIPTION:Learn about the technological challenges & the lessons for Technology Experts\, Academics & Policy Makers presented in the crisis of COVID-19\n\n\n\n\n\n\n\n\nThe AI Experience Centre invites you to participate in the third session of its webinar series all of which focuses on the key takeaways of the recent COVID-19 outbreak across a variety of sectors. \n  \nSign up HERE to secure your spot!\n  \nWhen? \nFriday\, May 15\, 2020: 11.00 – 12.00 \nWhere?  \n Prior to the event you will be provided with an URL address of the webinar. \nAgenda: \n\n11:00 – 11:05: Introduction by Hans De Canck\, Manager of the AI Experience Centre\n11:05 – 11:35: Presentation by VUB Experts\n11:35 – 11:45: Expert colleague reaction (CLAIRE)\n11:45 – 12:00: Q&A online attendants\n\nAbout the Session: \nThis session welcomes Prof. dr. Jef Vandemeulebroucke (ETRO) and UZ Brussels colleague Prof. dr. Johan De Mey (Radiology). Together with Dirk Smeets (ICOMETRIX) they will talk about CT Lung Image Analysis and AI as they will discuss the technological and functional challenges they encountered at UZ Brussels when applying AI techniques in this emergency context. The ICOVID project is one of the outcomes of the several tracks VUB researchers were involved in. Come prepared and you will get the chance to ask questions from experts at the end of the session. \nAbout the Webinar Series: \nThe AI Experience Centre of the VUB is dedicated to emerging as an enabler by connecting academic expertise of the EU AI Framework with relevant stakeholders. The Centre is comprised of leading research groups (Artificial Intelligence Lab\, BruBotics\, ETRO\, and SMIT) in the field of Artificial Intelligence and Robotics. In the wake of the outbreak of COVID-19 the research groups and the Centre have dedicated their expertise to help health\, policy\, and economic decision making. We would like to invite you to learn from this experience together. from experts to improve ongoing and new projects that involve AI & Data innovation and to enhance the role of academics & scientists to create a human-centric post-corona society. A society where AI & Data technology contributes to the Common Good. \nStay tuned for our next webinar on The Continuing Challenge of AI & Data Protection Law amid the COVID-19 Crisis led by Prof. dr. Mireille Hildebrandt & Prof. dr. Gloria González Fuster from the LSTS research group on Wednesday\, May 20\, 2020\, 14:00 – 15:00. Interested? Sign up now. \nAny Questions? Email us at hans.de.canck@vub.be
URL:https://experience-centre.ai/event/ct-lung-image-analysis-and-artificial-intelligence/
LOCATION:Online Webinar
CATEGORIES:Online
ATTACH;FMTTYPE=image/jpeg:https://experience-centre.ai/wp-content/uploads/2020/05/webinar-3.3.jpg
END:VEVENT
BEGIN:VEVENT
DTSTART;TZID=Europe/Brussels:20200512T170000
DTEND;TZID=Europe/Brussels:20200512T180000
DTSTAMP:20260422T135115
CREATED:20200506T075650Z
LAST-MODIFIED:20200508T122901Z
UID:10663-1589302800-1589306400@experience-centre.ai
SUMMARY:Open Source Actions in the Field of Mechanics & Robotics
DESCRIPTION:Learn about the technological challenges & the lessons for Technology Experts\, Academics & Policy Makers presented in the crisis of COVID-19\n\n\n\n\n\n\n\n\nThe AI Experience Centre invites you to participate in the second session of its webinar series all of which focuses on the key takeaways of the recent COVID-19 outbreak across a variety of sectors. \n  \nSign up HERE to secure your spot!\n  \nWhen? \nTuesday\, May 12\, 2020: 17.00 – 18.00 \nWhere? \nPrior to the event you will be provided with an URL address of the webinar. \nAgenda: \n\n17:00 – 17:05: Introduction by Hans De Canck\, Manager of the AI Experience Centre\n17:05 – 17:35: Presentation by VUB Experts\n17:35 – 17:45: Expert colleague reaction (CLAIRE)\n17:45 – 18:00: Q&A online attendants\n\nAbout the Session: \nThe AI Experience Centre has invited researchers from the Mechatronics dept.\, Brussels FabLab and BruBotics to talk about their work amid the crisis. Prof. dr. Bram Vanderborght\, ir. Albert De Beir\, ir Lieven Standaert\, and Prof. dr. Mark Runacres will join us on this occasion to share their knowledge on Open Source actions in the field of Mechanics & Robotics (Producing Open Source Ventilators\, 3D printing challenges Decathlon Mask). They will conclude with the most important lessons learned and outlining the challenges that are still ahead of us. \nAbout the Webinar Series: \nThe AI Experience Centre of the VUB is dedicated to emerging as an enabler by connecting academic expertise of the EU AI Framework with relevant stakeholders. The Centre is comprised of leading research groups (Artificial Intelligence Lab\, BruBotics\, ETRO\, and SMIT) in the field of Artificial Intelligence and Robotics. In the wake of the outbreak of COVID-19 the research groups and the Centre have dedicated their expertise to help health\, policy\, and economic decision making. We would like to invite you to learn from this experience together. from experts to improve ongoing and new projects that involve AI & Data innovation and to enhance the role of academics & scientists to create a human-centric post-corona society. A society where AI & Data technology contributes to the Common Good. \nStay tuned for our next webinar on CT Lung Image Analysis and AI presented by Prof. dr. Jef Vandemeulebroucke from the ETRO research group\, Prof. dr. Johan De Mey from UZBrussels Radiology departments\, and Dirk Smeets from ICOMETRIX on Friday\, May 15\, 2020: 11.00 – 12.00. Sign up here to secure your spot.  \nTo not miss any of our news visit our website. \nAny Questions? Email us at hans.de.canck@vub.be
URL:https://experience-centre.ai/event/open-source-actions-in-the-field-of-mechanics-robotics/
LOCATION:Online Webinar
CATEGORIES:Online
ATTACH;FMTTYPE=image/jpeg:https://experience-centre.ai/wp-content/uploads/2020/05/webinar-2.4.jpg
END:VEVENT
BEGIN:VEVENT
DTSTART;TZID=Europe/Brussels:20200511T110000
DTEND;TZID=Europe/Brussels:20200511T120000
DTSTAMP:20260422T135115
CREATED:20200505T164827Z
LAST-MODIFIED:20200508T122956Z
UID:10654-1589194800-1589198400@experience-centre.ai
SUMMARY:The Role of News Organisations\, Social Media & Fake News Analysis in Times
DESCRIPTION:Learn about the technological challenges and the lessons for Media players & Policy Makers presented amid the  COVID-19 crisis.\n\n\n\n\n\n\n\n\nThe AI Experience Centre invites you to participate in the first session of its webinar series all of which focuses on the key take aways of the recent COVID-19 outbreak across a variety of sectors. \nSign up HERE to secure your spot!\nWhen? \nTuesday\, May 11\, 2020: 11.00-12.00 \nWhere? \n Prior to the event you will be provided with an URL address of the webinar. \nAgenda: \n\n11:00 – 11:05: Introduction by Hans De Canck\, Manager of the AI Experience Centre\n11:05-11:35: presentation by VUB Experts\n11:35-11:45: Expert colleague reaction (CLAIRE)\n11:45- 12:00: Q&A online attendants\n\nAbout the Webinar Session: \nThis session welcomes Prof. dr. Ike Picone from Studies in Media\, Innovation and Technology (SMIT) research group & dr. Tom Willaert from the Artificial Intelligence Lab. The senior researchers will discuss the role of social media & fake news analysis in times of the COVID19 crisis. The webinar will also shed light on the key technological challenges the scientific community encountered to then finally provide insights for media players and policy-makers based on this experience. Come prepared and you will get the chance to ask questions from experts at the end of the sessions. \nAbout the Webinar Series: \nThe AI Experience Centre of the VUB is dedicated to emerging as an enabler by connecting academic expertise of the EU AI Framework with relevant stakeholders. The Centre is comprised of leading research groups (Artificial Intelligence Lab\, BruBotics\, ETRO\, and SMIT) in the field of Artificial Intelligence and Robotics. In the wake of the outbreak of COVID-19 the research groups and the Centre have dedicated their expertise to help health\, policy\, and economic decision making. We would like to invite you to learn from this experience together. Our goal is to improve ongoing and new projects that involve AI & Data innovation and to enhance the role of academics & scientists in creating a human-centricpost-corona society. A society where AI & Data technology contributes to the Common Good. \nStay tuned for our next webinar on Tuesday May 12\, 2020: 17.00 – 18.00. The session invites researchers from BruBotics who will share their work on Open Source actions in the field of Mechanics & Robotics (Producing Open Source Ventilators\, 3D printing challenges Decathlon Mask). You can sign up here. \nAny Questions? Email us at hans.de.canck@vub.be
URL:https://experience-centre.ai/event/role-of-social-media-fake-news-analysis-in-times-of-covid19-crisis/
LOCATION:Online Webinar
CATEGORIES:Online
ATTACH;FMTTYPE=image/jpeg:https://experience-centre.ai/wp-content/uploads/2020/05/webinar-1.11.jpg
END:VEVENT
BEGIN:VEVENT
DTSTART;TZID=Europe/Brussels:20200316T100000
DTEND;TZID=Europe/Brussels:20200504T100000
DTSTAMP:20260422T135115
CREATED:20200316T090032Z
LAST-MODIFIED:20200426T150811Z
UID:10492-1584352800-1588586400@experience-centre.ai
SUMMARY:Events are cancelled due to COVID-19
DESCRIPTION:Together with many organisations we have decided to postpone our events or move them to an online environment due to the recent outbreak of COVID-19. Our team is currently working on launching webinars and other services for our partners and for those interested. We would also like to express our support to CLAIRE Taskforce against COVID-19. If you or your organisation are able to contribute you can sign up as a volunteer here. \nStay tuned to not miss our first webinar which will discuss the lessons learned from recent AI driven initiatives to fight the COVID19 crisis. \n 
URL:https://experience-centre.ai/event/events-are-cancelled-due-to-covid-19/
CATEGORIES:Cancelled
ATTACH;FMTTYPE=image/jpeg:https://experience-centre.ai/wp-content/uploads/2020/03/cancelled-event.jpg
END:VEVENT
END:VCALENDAR