BEGIN:VCALENDAR
VERSION:2.0
PRODID:-//AI Experience Centre - ECPv6.15.20//NONSGML v1.0//EN
CALSCALE:GREGORIAN
METHOD:PUBLISH
X-ORIGINAL-URL:https://experience-centre.ai
X-WR-CALDESC:Events for AI Experience Centre
REFRESH-INTERVAL;VALUE=DURATION:PT1H
X-Robots-Tag:noindex
X-PUBLISHED-TTL:PT1H
BEGIN:VTIMEZONE
TZID:Europe/Brussels
BEGIN:DAYLIGHT
TZOFFSETFROM:+0100
TZOFFSETTO:+0200
TZNAME:CEST
DTSTART:20190331T010000
END:DAYLIGHT
BEGIN:STANDARD
TZOFFSETFROM:+0200
TZOFFSETTO:+0100
TZNAME:CET
DTSTART:20191027T010000
END:STANDARD
BEGIN:DAYLIGHT
TZOFFSETFROM:+0100
TZOFFSETTO:+0200
TZNAME:CEST
DTSTART:20200329T010000
END:DAYLIGHT
BEGIN:STANDARD
TZOFFSETFROM:+0200
TZOFFSETTO:+0100
TZNAME:CET
DTSTART:20201025T010000
END:STANDARD
BEGIN:DAYLIGHT
TZOFFSETFROM:+0100
TZOFFSETTO:+0200
TZNAME:CEST
DTSTART:20210328T010000
END:DAYLIGHT
BEGIN:STANDARD
TZOFFSETFROM:+0200
TZOFFSETTO:+0100
TZNAME:CET
DTSTART:20211031T010000
END:STANDARD
END:VTIMEZONE
BEGIN:VEVENT
DTSTART;TZID=Europe/Brussels:20200316T100000
DTEND;TZID=Europe/Brussels:20200504T100000
DTSTAMP:20260422T151808
CREATED:20200316T090032Z
LAST-MODIFIED:20200426T150811Z
UID:10492-1584352800-1588586400@experience-centre.ai
SUMMARY:Events are cancelled due to COVID-19
DESCRIPTION:Together with many organisations we have decided to postpone our events or move them to an online environment due to the recent outbreak of COVID-19. Our team is currently working on launching webinars and other services for our partners and for those interested. We would also like to express our support to CLAIRE Taskforce against COVID-19. If you or your organisation are able to contribute you can sign up as a volunteer here. \nStay tuned to not miss our first webinar which will discuss the lessons learned from recent AI driven initiatives to fight the COVID19 crisis. \n 
URL:https://experience-centre.ai/event/events-are-cancelled-due-to-covid-19/
CATEGORIES:Cancelled
ATTACH;FMTTYPE=image/jpeg:https://experience-centre.ai/wp-content/uploads/2020/03/cancelled-event.jpg
END:VEVENT
END:VCALENDAR